BEGIN:VCALENDAR
VERSION:2.0
PRODID:-//Rental Housing Alliance Oregon - ECPv6.15.20//NONSGML v1.0//EN
CALSCALE:GREGORIAN
METHOD:PUBLISH
X-WR-CALNAME:Rental Housing Alliance Oregon
X-ORIGINAL-URL:https://rhaoregon.org
X-WR-CALDESC:Events for Rental Housing Alliance Oregon
REFRESH-INTERVAL;VALUE=DURATION:PT1H
X-Robots-Tag:noindex
X-PUBLISHED-TTL:PT1H
BEGIN:VTIMEZONE
TZID:America/Los_Angeles
BEGIN:DAYLIGHT
TZOFFSETFROM:-0800
TZOFFSETTO:-0700
TZNAME:PDT
DTSTART:20240310T100000
END:DAYLIGHT
BEGIN:STANDARD
TZOFFSETFROM:-0700
TZOFFSETTO:-0800
TZNAME:PST
DTSTART:20241103T090000
END:STANDARD
BEGIN:DAYLIGHT
TZOFFSETFROM:-0800
TZOFFSETTO:-0700
TZNAME:PDT
DTSTART:20250309T100000
END:DAYLIGHT
BEGIN:STANDARD
TZOFFSETFROM:-0700
TZOFFSETTO:-0800
TZNAME:PST
DTSTART:20251102T090000
END:STANDARD
BEGIN:DAYLIGHT
TZOFFSETFROM:-0800
TZOFFSETTO:-0700
TZNAME:PDT
DTSTART:20260308T100000
END:DAYLIGHT
BEGIN:STANDARD
TZOFFSETFROM:-0700
TZOFFSETTO:-0800
TZNAME:PST
DTSTART:20261101T090000
END:STANDARD
BEGIN:DAYLIGHT
TZOFFSETFROM:-0800
TZOFFSETTO:-0700
TZNAME:PDT
DTSTART:20270314T100000
END:DAYLIGHT
BEGIN:STANDARD
TZOFFSETFROM:-0700
TZOFFSETTO:-0800
TZNAME:PST
DTSTART:20271107T090000
END:STANDARD
END:VTIMEZONE
BEGIN:VEVENT
DTSTART;TZID=America/Los_Angeles:20260213T080000
DTEND;TZID=America/Los_Angeles:20260213T170000
DTSTAMP:20260422T122323
CREATED:20251222T231741Z
LAST-MODIFIED:20251222T231741Z
UID:10003397-1770969600-1771002000@rhaoregon.org
SUMMARY:RHA Oregon Office Closed
DESCRIPTION:In-Service Work Day 9:00am-5:00pm
URL:https://rhaoregon.org/event/rha-oregon-office-closed/2026-02-13/
LOCATION:RHA Oregon Office\, 10520 NE Weidler St\, Portland\, OR\, 97220\, United States
ORGANIZER;CN="RHAOregon":MAILTO:info@rhaoregon.org
END:VEVENT
BEGIN:VEVENT
DTSTART;TZID=America/Los_Angeles:20260206T080000
DTEND;TZID=America/Los_Angeles:20260206T170000
DTSTAMP:20260422T122323
CREATED:20251222T231741Z
LAST-MODIFIED:20251222T231741Z
UID:10003396-1770364800-1770397200@rhaoregon.org
SUMMARY:RHA Oregon Office Closed
DESCRIPTION:In-Service Work Day 9:00am-5:00pm
URL:https://rhaoregon.org/event/rha-oregon-office-closed/2026-02-06/
LOCATION:RHA Oregon Office\, 10520 NE Weidler St\, Portland\, OR\, 97220\, United States
ORGANIZER;CN="RHAOregon":MAILTO:info@rhaoregon.org
END:VEVENT
BEGIN:VEVENT
DTSTART;TZID=America/Los_Angeles:20260130T080000
DTEND;TZID=America/Los_Angeles:20260130T170000
DTSTAMP:20260422T122323
CREATED:20251222T231741Z
LAST-MODIFIED:20251222T231741Z
UID:10003395-1769760000-1769792400@rhaoregon.org
SUMMARY:RHA Oregon Office Closed
DESCRIPTION:In-Service Work Day 9:00am-5:00pm
URL:https://rhaoregon.org/event/rha-oregon-office-closed/2026-01-30/
LOCATION:RHA Oregon Office\, 10520 NE Weidler St\, Portland\, OR\, 97220\, United States
ORGANIZER;CN="RHAOregon":MAILTO:info@rhaoregon.org
END:VEVENT
BEGIN:VEVENT
DTSTART;TZID=America/Los_Angeles:20260123T080000
DTEND;TZID=America/Los_Angeles:20260123T170000
DTSTAMP:20260422T122323
CREATED:20251222T231741Z
LAST-MODIFIED:20251222T231741Z
UID:10003394-1769155200-1769187600@rhaoregon.org
SUMMARY:RHA Oregon Office Closed
DESCRIPTION:In-Service Work Day 9:00am-5:00pm
URL:https://rhaoregon.org/event/rha-oregon-office-closed/2026-01-23/
LOCATION:RHA Oregon Office\, 10520 NE Weidler St\, Portland\, OR\, 97220\, United States
ORGANIZER;CN="RHAOregon":MAILTO:info@rhaoregon.org
END:VEVENT
BEGIN:VEVENT
DTSTART;TZID=America/Los_Angeles:20260117T110000
DTEND;TZID=America/Los_Angeles:20260117T130000
DTSTAMP:20260422T122323
CREATED:20251222T232340Z
LAST-MODIFIED:20251222T235928Z
UID:10003651-1768647600-1768654800@rhaoregon.org
SUMMARY:Mentor Roundtable
DESCRIPTION:Join RHA Oregon for a Mentor Roundtable!\nAre you a landlord looking for expert guidance?  Don’t miss our virtual Mentor Roundtable on Saturday January 17\, 2026 at 11:00am via Zoom!\nOur experienced mentors will be on hand to answer all your landlord questions and discuss the benefits of membership.\nWhether you’re just starting our or looking to expand your portfolio\, this is a fantastic opportunity to gain valuable insights and connect with industry experts.\nRegister now to secure your spot!
URL:https://rhaoregon.org/event/mentor-roundtable-2/
LOCATION:Zoom
CATEGORIES:Meetings
ORGANIZER;CN="RHAOregon":MAILTO:info@rhaoregon.org
END:VEVENT
BEGIN:VEVENT
DTSTART;TZID=America/Los_Angeles:20260116T080000
DTEND;TZID=America/Los_Angeles:20260116T170000
DTSTAMP:20260422T122323
CREATED:20251222T231741Z
LAST-MODIFIED:20251222T231741Z
UID:10003393-1768550400-1768582800@rhaoregon.org
SUMMARY:RHA Oregon Office Closed
DESCRIPTION:In-Service Work Day 9:00am-5:00pm
URL:https://rhaoregon.org/event/rha-oregon-office-closed/2026-01-16/
LOCATION:RHA Oregon Office\, 10520 NE Weidler St\, Portland\, OR\, 97220\, United States
ORGANIZER;CN="RHAOregon":MAILTO:info@rhaoregon.org
END:VEVENT
BEGIN:VEVENT
DTSTART;TZID=America/Los_Angeles:20260109T080000
DTEND;TZID=America/Los_Angeles:20260109T170000
DTSTAMP:20260422T122323
CREATED:20251222T231741Z
LAST-MODIFIED:20251222T231741Z
UID:10003392-1767945600-1767978000@rhaoregon.org
SUMMARY:RHA Oregon Office Closed
DESCRIPTION:In-Service Work Day 9:00am-5:00pm
URL:https://rhaoregon.org/event/rha-oregon-office-closed/2026-01-09/
LOCATION:RHA Oregon Office\, 10520 NE Weidler St\, Portland\, OR\, 97220\, United States
ORGANIZER;CN="RHAOregon":MAILTO:info@rhaoregon.org
END:VEVENT
BEGIN:VEVENT
DTSTART;TZID=America/Los_Angeles:20260102T080000
DTEND;TZID=America/Los_Angeles:20260102T170000
DTSTAMP:20260422T122323
CREATED:20251222T231741Z
LAST-MODIFIED:20251222T231741Z
UID:10003391-1767340800-1767373200@rhaoregon.org
SUMMARY:RHA Oregon Office Closed
DESCRIPTION:In-Service Work Day 9:00am-5:00pm
URL:https://rhaoregon.org/event/rha-oregon-office-closed/2026-01-02/
LOCATION:RHA Oregon Office\, 10520 NE Weidler St\, Portland\, OR\, 97220\, United States
ORGANIZER;CN="RHAOregon":MAILTO:info@rhaoregon.org
END:VEVENT
BEGIN:VEVENT
DTSTART;TZID=America/Los_Angeles:20251210T160000
DTEND;TZID=America/Los_Angeles:20251210T173000
DTSTAMP:20260422T122323
CREATED:20251029T193638Z
LAST-MODIFIED:20251029T193640Z
UID:10003377-1765382400-1765387800@rhaoregon.org
SUMMARY:Board of Directors Meeting
DESCRIPTION:RHA Oregon Board of Directors Meeting\n\nDecember 10\, 2025 @ 4:00 pm – 5:30 pm\n\n\n\nRHA Oregon Board of Directors Meeting\nSecond Wednesday of the Month  In person and via zoom starts at 4:00pm\nRHA Members are welcome to attend\, please let the Director of Operations know if you would like to attend.  Contact Cari Pierce at cari@rhaoregon.org
URL:https://rhaoregon.org/event/board-of-directors-meeting/
LOCATION:Zoom
CATEGORIES:Meetings
ORGANIZER;CN="RHAOregon":MAILTO:info@rhaoregon.org
END:VEVENT
BEGIN:VEVENT
DTSTART;VALUE=DATE:20251119
DTEND;VALUE=DATE:20251120
DTSTAMP:20260422T122323
CREATED:20250909T181248Z
LAST-MODIFIED:20251114T205341Z
UID:10003356-1763510400-1763596799@rhaoregon.org
SUMMARY:November Dinner Meeting!!
DESCRIPTION:THIS EVENT HAS BEEN CANCELLED\n  \nRHA is excited to invite you to a special dinner hosted by the Rental Housing Alliance Oregon.\nWe will be voting to elect our volunteer board of directors and officers at this meeting.\nDate: Wednesday November 19\, 2025\nTime: 6:00pm\nLocation: The Old Spaghetti Factory\n715 S Bancroft St.\nPortland OR 97239\nCome enjoy a great meal\, a drink on us\, and some raffle drawing prizes.  This is a networking social event\, bringing us together to network and celebrate!!\nThe Rental Housing Alliance Oregon will also be collecting non perishable food items and personal care items for donation to Snow Cap Community Charities.\n\nPlease have your registrations in by no later than Tuesday November 18\, 2025
URL:https://rhaoregon.org/event/dinner_meeting/
LOCATION:The Old Spaghetti Factory\, 0715 SW Bancroft\, Portland\, OR\, 97239\, United States
CATEGORIES:Event,Meetings
ORGANIZER;CN="RHAOregon":MAILTO:info@rhaoregon.org
END:VEVENT
BEGIN:VEVENT
DTSTART;TZID=America/Los_Angeles:20251115T110000
DTEND;TZID=America/Los_Angeles:20251115T130000
DTSTAMP:20260422T122323
CREATED:20251029T180639Z
LAST-MODIFIED:20251029T180931Z
UID:10003374-1763204400-1763211600@rhaoregon.org
SUMMARY:Mentor Roundtable
DESCRIPTION:Join RHA Oregon for a Mentor Roundtable!\nAre you a landlord looking for expert guidance?  Don’t miss our virtual Mentor Roundtable on Saturday November 15\, 2025 at 11:00am via Zoom!\nOur experienced mentors will be on hand to answer all your landlord questions and discuss the benefits of membership.\nWhether you’re just starting our or looking to expand your portfolio\, this is a fantastic opportunity to gain valuable insights and connect with industry experts.\nRegister now to secure your spot!
URL:https://rhaoregon.org/event/mentor-roundtable/
LOCATION:Zoom
CATEGORIES:Meetings
ORGANIZER;CN="RHAOregon":MAILTO:info@rhaoregon.org
END:VEVENT
BEGIN:VEVENT
DTSTART;TZID=America/Los_Angeles:20251113T160000
DTEND;TZID=America/Los_Angeles:20251113T180000
DTSTAMP:20260422T122323
CREATED:20250909T215416Z
LAST-MODIFIED:20251112T192249Z
UID:10003362-1763049600-1763056800@rhaoregon.org
SUMMARY:Legislative Update\, New Laws and what we know
DESCRIPTION:Taught By Amber Clark w/The Garcia Group \nAs we move through 2025\, several new legislative updates in Oregon are changing how landlords and property owners do business. This is especially true in the Portland Metro area\, where local rules often intersect with statewide laws. From rent control to tenant screening and building requirements\, it’s important to stay compliant and informed. Join me at RHA to learn about how the most recent legislative session impacts your daily job as a property manager. \n2 Continuing Education Credits Provided\n$35 MEMBERS\n$55 NON MEMBERS \nRegistration for this class closes at end of business day Wednesday November 12\, 2025
URL:https://rhaoregon.org/event/legislative_update_new_laws_and_what_we_know/
LOCATION:Hybrid- Both In-person and Via Zoom Meeting\, 10530 NE Weidler St.\, Portland\, OR\, 97220\, United States
CATEGORIES:Classes,Continuing education credit available
ORGANIZER;CN="RHAOregon":MAILTO:info@rhaoregon.org
END:VEVENT
BEGIN:VEVENT
DTSTART;TZID=America/Los_Angeles:20251104T180000
DTEND;TZID=America/Los_Angeles:20251104T193000
DTSTAMP:20260422T122323
CREATED:20251009T163137Z
LAST-MODIFIED:20251023T190215Z
UID:10003370-1762279200-1762284600@rhaoregon.org
SUMMARY:RHA Oregon Member Orientation
DESCRIPTION:RHA Oregon Member Orientation\nTuesday November 4\, 2025 starting at 6:00pm\nHere you will be guided by Diana Lindemann RHA’s Mentor Coordinator on how to navigate the New RHA website\,  She will also go over what your membership benefits are and how to go about utilizing them.\nCome join this interactive zoom meeting and learn what you need to know to navigate RHA and our new website!!\nREGISTER BELOW TO LET US KNOW YOU WOULD LIKE TO ATTEND.\nZoom invite will go out the day of the event to those who registered in advance.
URL:https://rhaoregon.org/event/rha-oregon-new-member-orientation/
LOCATION:Zoom
CATEGORIES:Meetings
ORGANIZER;CN="RHAOregon":MAILTO:info@rhaoregon.org
END:VEVENT
BEGIN:VEVENT
DTSTART;TZID=America/Los_Angeles:20251023T180000
DTEND;TZID=America/Los_Angeles:20251023T193000
DTSTAMP:20260422T122323
CREATED:20251002T172239Z
LAST-MODIFIED:20251002T172241Z
UID:10003369-1761242400-1761247800@rhaoregon.org
SUMMARY:RHA Oregon Mentor Roundtable
DESCRIPTION:Join RHA Oregon for a Mentor Roundtable!\nAre you a landlord looking for expert guidance?  Don’t miss our virtual Mentor Roundtable on Thursday October 23\, 2025 at 6:00pm via Zoom!\nOur experienced mentors will be on hand to answer all your landlord questions and discuss the benefits of membership.\nWhether you’re just starting our or looking to expand your portfolio\, this is a fantastic opportunity to gain valuable insights and connect with industry experts.\nRegister now to secure your spot!
URL:https://rhaoregon.org/event/rha-oregon-mentor-roundtable/
LOCATION:Zoom
CATEGORIES:Meetings
ORGANIZER;CN="RHAOregon":MAILTO:info@rhaoregon.org
END:VEVENT
BEGIN:VEVENT
DTSTART;TZID=America/Los_Angeles:20251016T160000
DTEND;TZID=America/Los_Angeles:20251016T180000
DTSTAMP:20260422T122323
CREATED:20250909T213142Z
LAST-MODIFIED:20251002T163311Z
UID:10003361-1760630400-1760637600@rhaoregon.org
SUMMARY:Landlording 102 - Law Update
DESCRIPTION:Instructor: Christopher Tackett-Nelson from Warren Allen LLP \nThursday October 16th 4:00pm – 6:00pm \nLandlording 102 covers many scenarios that can trip up anyone\, from new to seasoned landlords. Join Real Estate Attorney Christopher L. Tackett-Nelson as he addresses recent changes in landlord-tenant law\, new notice and pleading problems\, landlord obligations\, tenant protections\, and so much more. \nContinuing education credits: 1.5 CE Credits \nChristopher L. Tackett-Nelson obtained his double major Bachelor of Arts degree in Anthropology and History from Portland State University\, and his Doctor of Jurisprudence and Certificate in Sustainable Environmental\, Energy & Resources Law from Willamette University College of Law. Mr. Tackett-Nelson primarily represents clients on real estate and land use matters\, with an emphasis on landlord-tenant law\, and also assists clients with contract and tort claims. \nPrior to joining Warren Allen LLP\, Mr. Tackett-Nelson gained a wealth of experience in a variety of legal areas while clerking for the Oregon Land Use Board of Appeals\, Reeve Kearns PC\, the Clackamas County Counsel\, and the Port of Portland. \nIn his spare time\, Mr. Tackett-Nelson enjoys gardening\, fishing\, paddle sports\, and snowboarding. He is also an active author for the Oregon State Bar Real Estate & Land Use Digest. \n$75.00 Non members\n$45.00 Members \nRegistration for this class closes at end of business day Wednesday October 15\, 2025
URL:https://rhaoregon.org/event/landlording_102_law_update/
LOCATION:Hybrid- Both In-person and Via Zoom Meeting\, 10530 NE Weidler St.\, Portland\, OR\, 97220\, United States
CATEGORIES:Classes,Continuing education credit available
ORGANIZER;CN="RHAOregon":MAILTO:info@rhaoregon.org
END:VEVENT
BEGIN:VEVENT
DTSTART;TZID=America/Los_Angeles:20251008T160000
DTEND;TZID=America/Los_Angeles:20251008T173000
DTSTAMP:20260422T122323
CREATED:20251002T170517Z
LAST-MODIFIED:20251002T170519Z
UID:10003368-1759939200-1759944600@rhaoregon.org
SUMMARY:RHA Oregon Board of Directors Meeting
DESCRIPTION:RHA Oregon Board of Directors Meeting\nSecond Wednesday of the Month  In person and via zoom starts at 4:00pm\nRHA Members are welcome to attend\, please let the Director of Operations know if you would like to attend.  Contact Cari Pierce at cari@rhaoregon.org
URL:https://rhaoregon.org/event/rha-oregon-board-of-directors-meeting/
LOCATION:Hybrid- Both In-person and Via Zoom Meeting\, 10530 NE Weidler St.\, Portland\, OR\, 97220\, United States
CATEGORIES:Meetings
ORGANIZER;CN="RHAOregon":MAILTO:info@rhaoregon.org
END:VEVENT
BEGIN:VEVENT
DTSTART;TZID=America/Los_Angeles:20250927T090000
DTEND;TZID=America/Los_Angeles:20250927T130000
DTSTAMP:20260422T122323
CREATED:20250909T212439Z
LAST-MODIFIED:20250909T224216Z
UID:10003360-1758963600-1758978000@rhaoregon.org
SUMMARY:Landlording 101 - Managing and Terminating Tenancy
DESCRIPTION:
URL:https://rhaoregon.org/event/landlording-101-managing-and-terminating-tenancy/
LOCATION:Hybrid- Both In-person and Via Zoom Meeting\, 10530 NE Weidler St.\, Portland\, OR\, 97220\, United States
CATEGORIES:Classes,Continuing education credit available
ATTACH;FMTTYPE=image/webp:https://rhaoregon.org/wp-content/uploads/2025/09/Landlording-101-Flyer.webp
ORGANIZER;CN="RHAOregon":MAILTO:info@rhaoregon.org
END:VEVENT
BEGIN:VEVENT
DTSTART;TZID=America/Los_Angeles:20250820T110000
DTEND;TZID=America/Los_Angeles:20250820T190000
DTSTAMP:20260422T122323
CREATED:20250909T173233Z
LAST-MODIFIED:20250909T225925Z
UID:10003354-1755687600-1755716400@rhaoregon.org
SUMMARY:Annual Picnic
DESCRIPTION:
URL:https://rhaoregon.org/event/annual-picnic/
LOCATION:Oaks Amusement Park\, 7805 Southeast Oaks Park Way\, Portland\, OR\, 97202
CATEGORIES:Event,Picnic
ATTACH;FMTTYPE=image/webp:https://rhaoregon.org/wp-content/uploads/2025/09/RHA-Annual-Picnic.webp
ORGANIZER;CN="RHAOregon":MAILTO:info@rhaoregon.org
END:VEVENT
BEGIN:VEVENT
DTSTART;TZID=America/Los_Angeles:20250724T160000
DTEND;TZID=America/Los_Angeles:20250724T180000
DTSTAMP:20260422T122323
CREATED:20250909T210243Z
LAST-MODIFIED:20250909T230033Z
UID:10003359-1753372800-1753380000@rhaoregon.org
SUMMARY:Legislative Update\, New Laws and what we know
DESCRIPTION:Taught By Amber Clark w/The Garcia Group \nAs we move through 2025\, several new legislative updates in Oregon are changing how landlords and property owners do business. This is especially true in the Portland Metro area\, where local rules often intersect with statewide laws. From rent control to tenant screening and building requirements\, it’s important to stay compliant and informed. Join me at RHA to learn about how the most recent legislative session impacts your daily job as a property manager. \n2 Continuing Education Credits Provided\n$35 MEMBERS\n$55 NON MEMBERS
URL:https://rhaoregon.org/event/legislative-update-new-laws-and-what-we-know/
LOCATION:Hybrid- Both In-person and Via Zoom Meeting\, 10530 NE Weidler St.\, Portland\, OR\, 97220\, United States
CATEGORIES:Classes,Continuing education credit available
ORGANIZER;CN="RHAOregon":MAILTO:info@rhaoregon.org
END:VEVENT
BEGIN:VEVENT
DTSTART;TZID=America/Los_Angeles:20250716T180000
DTEND;TZID=America/Los_Angeles:20250716T183000
DTSTAMP:20260422T122323
CREATED:20250909T170319Z
LAST-MODIFIED:20250909T230042Z
UID:10003353-1752688800-1752690600@rhaoregon.org
SUMMARY:Dinner Meeting
DESCRIPTION:Speaker: Charles Kovas with Charles A Kovas Law Firm\nSpotlight Sponsor: 1031 Capital Solutions \nSponsor: \nTopic: TBD \nREGISTRATION FOR THIS EVENT CLOSES AT 5:00PM ON TUESDAY JULY 15\, 2025\nMAKE SURE YOUR REGISTRATION IS IN BY THE DEADLINE!!
URL:https://rhaoregon.org/event/dinner-meeting/
LOCATION:The Old Spaghetti Factory\, 0715 SW Bancroft\, Portland\, OR\, 97239\, United States
CATEGORIES:Event
ORGANIZER;CN="RHAOregon":MAILTO:info@rhaoregon.org
END:VEVENT
BEGIN:VEVENT
DTSTART;TZID=America/Los_Angeles:20250529T160000
DTEND;TZID=America/Los_Angeles:20250529T180000
DTSTAMP:20260422T122323
CREATED:20250909T205606Z
LAST-MODIFIED:20250909T230631Z
UID:10003358-1748534400-1748541600@rhaoregon.org
SUMMARY:Landlording 102 - Law Update
DESCRIPTION:Instructor: Christopher Tackett-Nelson from Warren Allen LLP \nLandlording 102 covers many scenarios that can trip up anyone\, from new to seasoned landlords. Join Real Estate Attorney Christopher L. Tackett-Nelson as he addresses recent changes in landlord-tenant law\, new notice and pleading problems\, landlord obligations\, tenant protections\, and so much more. \nContinuing education credits: 1.5 CE Credits\nChristopher L. Tackett-Nelson obtained his double major Bachelor of Arts degree in Anthropology and History from Portland State University\, and his Doctor of Jurisprudence and Certificate in Sustainable Environmental\, Energy & Resources Law from Willamette University College of Law. Mr. Tackett-Nelson primarily represents clients on real estate and land use matters\, with an emphasis on landlord-tenant law\, and also assists clients with contract and tort claims. \nPrior to joining Warren Allen LLP\, Mr. Tackett-Nelson gained a wealth of experience in a variety of legal areas while clerking for the Oregon Land Use Board of Appeals\, Reeve Kearns PC\, the Clackamas County Counsel\, and the Port of Portland. \nIn his spare time\, Mr. Tackett-Nelson enjoys gardening\, fishing\, paddle sports\, and snowboarding. He is also an active author for the Oregon State Bar Real Estate & Land Use Digest.\n$75.00 Non members\n$45.00 Members \nRegistration for this class closes at end of business day Wednesday May 28th
URL:https://rhaoregon.org/event/landlording-102-law-update/
LOCATION:Hybrid- Both In-person and Via Zoom Meeting\, 10530 NE Weidler St.\, Portland\, OR\, 97220\, United States
CATEGORIES:Classes,Continuing education credit available
ORGANIZER;CN="RHAOregon":MAILTO:info@rhaoregon.org
END:VEVENT
BEGIN:VEVENT
DTSTART;TZID=America/Los_Angeles:20250426T090000
DTEND;TZID=America/Los_Angeles:20250426T130000
DTSTAMP:20260422T122323
CREATED:20250909T204333Z
LAST-MODIFIED:20250909T230414Z
UID:10003357-1745658000-1745672400@rhaoregon.org
SUMMARY:Landlording 101 - Application\, Rental Agreement and Addendums
DESCRIPTION:
URL:https://rhaoregon.org/event/landlording-101-application-rental-agreement-and-addendums/
LOCATION:Hybrid- Both In-person and Via Zoom Meeting\, 10530 NE Weidler St.\, Portland\, OR\, 97220\, United States
CATEGORIES:Classes,Continuing education credit available
ATTACH;FMTTYPE=image/webp:https://rhaoregon.org/wp-content/uploads/2025/09/Landlording-101-Flyer.webp
ORGANIZER;CN="RHAOregon":MAILTO:info@rhaoregon.org
END:VEVENT
END:VCALENDAR