BEGIN:VCALENDAR
VERSION:2.0
PRODID:-//Rental Housing Alliance Oregon - ECPv6.15.20//NONSGML v1.0//EN
CALSCALE:GREGORIAN
METHOD:PUBLISH
X-WR-CALNAME:Rental Housing Alliance Oregon
X-ORIGINAL-URL:https://rhaoregon.org
X-WR-CALDESC:Events for Rental Housing Alliance Oregon
REFRESH-INTERVAL;VALUE=DURATION:PT1H
X-Robots-Tag:noindex
X-PUBLISHED-TTL:PT1H
BEGIN:VTIMEZONE
TZID:America/Los_Angeles
BEGIN:DAYLIGHT
TZOFFSETFROM:-0800
TZOFFSETTO:-0700
TZNAME:PDT
DTSTART:20250309T100000
END:DAYLIGHT
BEGIN:STANDARD
TZOFFSETFROM:-0700
TZOFFSETTO:-0800
TZNAME:PST
DTSTART:20251102T090000
END:STANDARD
BEGIN:DAYLIGHT
TZOFFSETFROM:-0800
TZOFFSETTO:-0700
TZNAME:PDT
DTSTART:20260308T100000
END:DAYLIGHT
BEGIN:STANDARD
TZOFFSETFROM:-0700
TZOFFSETTO:-0800
TZNAME:PST
DTSTART:20261101T090000
END:STANDARD
BEGIN:DAYLIGHT
TZOFFSETFROM:-0800
TZOFFSETTO:-0700
TZNAME:PDT
DTSTART:20270314T100000
END:DAYLIGHT
BEGIN:STANDARD
TZOFFSETFROM:-0700
TZOFFSETTO:-0800
TZNAME:PST
DTSTART:20271107T090000
END:STANDARD
END:VTIMEZONE
BEGIN:VEVENT
DTSTART;TZID=America/Los_Angeles:20260424T080000
DTEND;TZID=America/Los_Angeles:20260424T170000
DTSTAMP:20260422T105222
CREATED:20251222T231741Z
LAST-MODIFIED:20251222T231741Z
UID:10003407-1777017600-1777050000@rhaoregon.org
SUMMARY:RHA Oregon Office Closed
DESCRIPTION:In-Service Work Day 9:00am-5:00pm
URL:https://rhaoregon.org/event/rha-oregon-office-closed/2026-04-24/
LOCATION:RHA Oregon Office\, 10520 NE Weidler St\, Portland\, OR\, 97220\, United States
ORGANIZER;CN="RHAOregon":MAILTO:info@rhaoregon.org
END:VEVENT
BEGIN:VEVENT
DTSTART;TZID=America/Los_Angeles:20260501T080000
DTEND;TZID=America/Los_Angeles:20260501T170000
DTSTAMP:20260422T105222
CREATED:20251222T231741Z
LAST-MODIFIED:20251222T231741Z
UID:10003408-1777622400-1777654800@rhaoregon.org
SUMMARY:RHA Oregon Office Closed
DESCRIPTION:In-Service Work Day 9:00am-5:00pm
URL:https://rhaoregon.org/event/rha-oregon-office-closed/2026-05-01/
LOCATION:RHA Oregon Office\, 10520 NE Weidler St\, Portland\, OR\, 97220\, United States
ORGANIZER;CN="RHAOregon":MAILTO:info@rhaoregon.org
END:VEVENT
BEGIN:VEVENT
DTSTART;TZID=America/Los_Angeles:20260508T080000
DTEND;TZID=America/Los_Angeles:20260508T170000
DTSTAMP:20260422T105222
CREATED:20251222T231741Z
LAST-MODIFIED:20251222T231741Z
UID:10003409-1778227200-1778259600@rhaoregon.org
SUMMARY:RHA Oregon Office Closed
DESCRIPTION:In-Service Work Day 9:00am-5:00pm
URL:https://rhaoregon.org/event/rha-oregon-office-closed/2026-05-08/
LOCATION:RHA Oregon Office\, 10520 NE Weidler St\, Portland\, OR\, 97220\, United States
ORGANIZER;CN="RHAOregon":MAILTO:info@rhaoregon.org
END:VEVENT
BEGIN:VEVENT
DTSTART;TZID=America/Los_Angeles:20260515T080000
DTEND;TZID=America/Los_Angeles:20260515T170000
DTSTAMP:20260422T105222
CREATED:20251222T231741Z
LAST-MODIFIED:20251222T231741Z
UID:10003410-1778832000-1778864400@rhaoregon.org
SUMMARY:RHA Oregon Office Closed
DESCRIPTION:In-Service Work Day 9:00am-5:00pm
URL:https://rhaoregon.org/event/rha-oregon-office-closed/2026-05-15/
LOCATION:RHA Oregon Office\, 10520 NE Weidler St\, Portland\, OR\, 97220\, United States
ORGANIZER;CN="RHAOregon":MAILTO:info@rhaoregon.org
END:VEVENT
BEGIN:VEVENT
DTSTART;TZID=America/Los_Angeles:20260522T080000
DTEND;TZID=America/Los_Angeles:20260522T170000
DTSTAMP:20260422T105222
CREATED:20251222T231741Z
LAST-MODIFIED:20251222T231741Z
UID:10003411-1779436800-1779469200@rhaoregon.org
SUMMARY:RHA Oregon Office Closed
DESCRIPTION:In-Service Work Day 9:00am-5:00pm
URL:https://rhaoregon.org/event/rha-oregon-office-closed/2026-05-22/
LOCATION:RHA Oregon Office\, 10520 NE Weidler St\, Portland\, OR\, 97220\, United States
ORGANIZER;CN="RHAOregon":MAILTO:info@rhaoregon.org
END:VEVENT
BEGIN:VEVENT
DTSTART;TZID=America/Los_Angeles:20260529T080000
DTEND;TZID=America/Los_Angeles:20260529T170000
DTSTAMP:20260422T105222
CREATED:20251222T231741Z
LAST-MODIFIED:20251222T231741Z
UID:10003412-1780041600-1780074000@rhaoregon.org
SUMMARY:RHA Oregon Office Closed
DESCRIPTION:In-Service Work Day 9:00am-5:00pm
URL:https://rhaoregon.org/event/rha-oregon-office-closed/2026-05-29/
LOCATION:RHA Oregon Office\, 10520 NE Weidler St\, Portland\, OR\, 97220\, United States
ORGANIZER;CN="RHAOregon":MAILTO:info@rhaoregon.org
END:VEVENT
BEGIN:VEVENT
DTSTART;TZID=America/Los_Angeles:20260605T080000
DTEND;TZID=America/Los_Angeles:20260605T170000
DTSTAMP:20260422T105222
CREATED:20251222T231741Z
LAST-MODIFIED:20251222T231741Z
UID:10003413-1780646400-1780678800@rhaoregon.org
SUMMARY:RHA Oregon Office Closed
DESCRIPTION:In-Service Work Day 9:00am-5:00pm
URL:https://rhaoregon.org/event/rha-oregon-office-closed/2026-06-05/
LOCATION:RHA Oregon Office\, 10520 NE Weidler St\, Portland\, OR\, 97220\, United States
ORGANIZER;CN="RHAOregon":MAILTO:info@rhaoregon.org
END:VEVENT
BEGIN:VEVENT
DTSTART;TZID=America/Los_Angeles:20260612T080000
DTEND;TZID=America/Los_Angeles:20260612T170000
DTSTAMP:20260422T105222
CREATED:20251222T231741Z
LAST-MODIFIED:20251222T231741Z
UID:10003414-1781251200-1781283600@rhaoregon.org
SUMMARY:RHA Oregon Office Closed
DESCRIPTION:In-Service Work Day 9:00am-5:00pm
URL:https://rhaoregon.org/event/rha-oregon-office-closed/2026-06-12/
LOCATION:RHA Oregon Office\, 10520 NE Weidler St\, Portland\, OR\, 97220\, United States
ORGANIZER;CN="RHAOregon":MAILTO:info@rhaoregon.org
END:VEVENT
BEGIN:VEVENT
DTSTART;TZID=America/Los_Angeles:20260619T080000
DTEND;TZID=America/Los_Angeles:20260619T170000
DTSTAMP:20260422T105222
CREATED:20251222T231741Z
LAST-MODIFIED:20251222T231741Z
UID:10003415-1781856000-1781888400@rhaoregon.org
SUMMARY:RHA Oregon Office Closed
DESCRIPTION:In-Service Work Day 9:00am-5:00pm
URL:https://rhaoregon.org/event/rha-oregon-office-closed/2026-06-19/
LOCATION:RHA Oregon Office\, 10520 NE Weidler St\, Portland\, OR\, 97220\, United States
ORGANIZER;CN="RHAOregon":MAILTO:info@rhaoregon.org
END:VEVENT
BEGIN:VEVENT
DTSTART;TZID=America/Los_Angeles:20260626T080000
DTEND;TZID=America/Los_Angeles:20260626T170000
DTSTAMP:20260422T105222
CREATED:20251222T231741Z
LAST-MODIFIED:20251222T231741Z
UID:10003416-1782460800-1782493200@rhaoregon.org
SUMMARY:RHA Oregon Office Closed
DESCRIPTION:In-Service Work Day 9:00am-5:00pm
URL:https://rhaoregon.org/event/rha-oregon-office-closed/2026-06-26/
LOCATION:RHA Oregon Office\, 10520 NE Weidler St\, Portland\, OR\, 97220\, United States
ORGANIZER;CN="RHAOregon":MAILTO:info@rhaoregon.org
END:VEVENT
BEGIN:VEVENT
DTSTART;TZID=America/Los_Angeles:20260703T080000
DTEND;TZID=America/Los_Angeles:20260703T170000
DTSTAMP:20260422T105222
CREATED:20251222T231741Z
LAST-MODIFIED:20251222T231741Z
UID:10003417-1783065600-1783098000@rhaoregon.org
SUMMARY:RHA Oregon Office Closed
DESCRIPTION:In-Service Work Day 9:00am-5:00pm
URL:https://rhaoregon.org/event/rha-oregon-office-closed/2026-07-03/
LOCATION:RHA Oregon Office\, 10520 NE Weidler St\, Portland\, OR\, 97220\, United States
ORGANIZER;CN="RHAOregon":MAILTO:info@rhaoregon.org
END:VEVENT
BEGIN:VEVENT
DTSTART;TZID=America/Los_Angeles:20260710T080000
DTEND;TZID=America/Los_Angeles:20260710T170000
DTSTAMP:20260422T105222
CREATED:20251222T231741Z
LAST-MODIFIED:20251222T231741Z
UID:10003418-1783670400-1783702800@rhaoregon.org
SUMMARY:RHA Oregon Office Closed
DESCRIPTION:In-Service Work Day 9:00am-5:00pm
URL:https://rhaoregon.org/event/rha-oregon-office-closed/2026-07-10/
LOCATION:RHA Oregon Office\, 10520 NE Weidler St\, Portland\, OR\, 97220\, United States
ORGANIZER;CN="RHAOregon":MAILTO:info@rhaoregon.org
END:VEVENT
BEGIN:VEVENT
DTSTART;TZID=America/Los_Angeles:20260717T080000
DTEND;TZID=America/Los_Angeles:20260717T170000
DTSTAMP:20260422T105222
CREATED:20251222T231741Z
LAST-MODIFIED:20251222T231741Z
UID:10003419-1784275200-1784307600@rhaoregon.org
SUMMARY:RHA Oregon Office Closed
DESCRIPTION:In-Service Work Day 9:00am-5:00pm
URL:https://rhaoregon.org/event/rha-oregon-office-closed/2026-07-17/
LOCATION:RHA Oregon Office\, 10520 NE Weidler St\, Portland\, OR\, 97220\, United States
ORGANIZER;CN="RHAOregon":MAILTO:info@rhaoregon.org
END:VEVENT
BEGIN:VEVENT
DTSTART;TZID=America/Los_Angeles:20260724T080000
DTEND;TZID=America/Los_Angeles:20260724T170000
DTSTAMP:20260422T105222
CREATED:20251222T231741Z
LAST-MODIFIED:20251222T231741Z
UID:10003420-1784880000-1784912400@rhaoregon.org
SUMMARY:RHA Oregon Office Closed
DESCRIPTION:In-Service Work Day 9:00am-5:00pm
URL:https://rhaoregon.org/event/rha-oregon-office-closed/2026-07-24/
LOCATION:RHA Oregon Office\, 10520 NE Weidler St\, Portland\, OR\, 97220\, United States
ORGANIZER;CN="RHAOregon":MAILTO:info@rhaoregon.org
END:VEVENT
BEGIN:VEVENT
DTSTART;TZID=America/Los_Angeles:20260731T080000
DTEND;TZID=America/Los_Angeles:20260731T170000
DTSTAMP:20260422T105222
CREATED:20251222T231741Z
LAST-MODIFIED:20251222T231741Z
UID:10003421-1785484800-1785517200@rhaoregon.org
SUMMARY:RHA Oregon Office Closed
DESCRIPTION:In-Service Work Day 9:00am-5:00pm
URL:https://rhaoregon.org/event/rha-oregon-office-closed/2026-07-31/
LOCATION:RHA Oregon Office\, 10520 NE Weidler St\, Portland\, OR\, 97220\, United States
ORGANIZER;CN="RHAOregon":MAILTO:info@rhaoregon.org
END:VEVENT
BEGIN:VEVENT
DTSTART;TZID=America/Los_Angeles:20260807T080000
DTEND;TZID=America/Los_Angeles:20260807T170000
DTSTAMP:20260422T105222
CREATED:20251222T231741Z
LAST-MODIFIED:20251222T231741Z
UID:10003422-1786089600-1786122000@rhaoregon.org
SUMMARY:RHA Oregon Office Closed
DESCRIPTION:In-Service Work Day 9:00am-5:00pm
URL:https://rhaoregon.org/event/rha-oregon-office-closed/2026-08-07/
LOCATION:RHA Oregon Office\, 10520 NE Weidler St\, Portland\, OR\, 97220\, United States
ORGANIZER;CN="RHAOregon":MAILTO:info@rhaoregon.org
END:VEVENT
BEGIN:VEVENT
DTSTART;TZID=America/Los_Angeles:20260814T080000
DTEND;TZID=America/Los_Angeles:20260814T170000
DTSTAMP:20260422T105222
CREATED:20251222T231741Z
LAST-MODIFIED:20251222T231741Z
UID:10003423-1786694400-1786726800@rhaoregon.org
SUMMARY:RHA Oregon Office Closed
DESCRIPTION:In-Service Work Day 9:00am-5:00pm
URL:https://rhaoregon.org/event/rha-oregon-office-closed/2026-08-14/
LOCATION:RHA Oregon Office\, 10520 NE Weidler St\, Portland\, OR\, 97220\, United States
ORGANIZER;CN="RHAOregon":MAILTO:info@rhaoregon.org
END:VEVENT
BEGIN:VEVENT
DTSTART;TZID=America/Los_Angeles:20260821T080000
DTEND;TZID=America/Los_Angeles:20260821T170000
DTSTAMP:20260422T105222
CREATED:20251222T231741Z
LAST-MODIFIED:20251222T231741Z
UID:10003424-1787299200-1787331600@rhaoregon.org
SUMMARY:RHA Oregon Office Closed
DESCRIPTION:In-Service Work Day 9:00am-5:00pm
URL:https://rhaoregon.org/event/rha-oregon-office-closed/2026-08-21/
LOCATION:RHA Oregon Office\, 10520 NE Weidler St\, Portland\, OR\, 97220\, United States
ORGANIZER;CN="RHAOregon":MAILTO:info@rhaoregon.org
END:VEVENT
BEGIN:VEVENT
DTSTART;TZID=America/Los_Angeles:20260828T080000
DTEND;TZID=America/Los_Angeles:20260828T170000
DTSTAMP:20260422T105222
CREATED:20251222T231741Z
LAST-MODIFIED:20251222T231741Z
UID:10003425-1787904000-1787936400@rhaoregon.org
SUMMARY:RHA Oregon Office Closed
DESCRIPTION:In-Service Work Day 9:00am-5:00pm
URL:https://rhaoregon.org/event/rha-oregon-office-closed/2026-08-28/
LOCATION:RHA Oregon Office\, 10520 NE Weidler St\, Portland\, OR\, 97220\, United States
ORGANIZER;CN="RHAOregon":MAILTO:info@rhaoregon.org
END:VEVENT
BEGIN:VEVENT
DTSTART;TZID=America/Los_Angeles:20260904T080000
DTEND;TZID=America/Los_Angeles:20260904T170000
DTSTAMP:20260422T105222
CREATED:20251222T231741Z
LAST-MODIFIED:20251222T231741Z
UID:10003426-1788508800-1788541200@rhaoregon.org
SUMMARY:RHA Oregon Office Closed
DESCRIPTION:In-Service Work Day 9:00am-5:00pm
URL:https://rhaoregon.org/event/rha-oregon-office-closed/2026-09-04/
LOCATION:RHA Oregon Office\, 10520 NE Weidler St\, Portland\, OR\, 97220\, United States
ORGANIZER;CN="RHAOregon":MAILTO:info@rhaoregon.org
END:VEVENT
BEGIN:VEVENT
DTSTART;TZID=America/Los_Angeles:20260911T080000
DTEND;TZID=America/Los_Angeles:20260911T170000
DTSTAMP:20260422T105222
CREATED:20251222T231741Z
LAST-MODIFIED:20251222T231741Z
UID:10003427-1789113600-1789146000@rhaoregon.org
SUMMARY:RHA Oregon Office Closed
DESCRIPTION:In-Service Work Day 9:00am-5:00pm
URL:https://rhaoregon.org/event/rha-oregon-office-closed/2026-09-11/
LOCATION:RHA Oregon Office\, 10520 NE Weidler St\, Portland\, OR\, 97220\, United States
ORGANIZER;CN="RHAOregon":MAILTO:info@rhaoregon.org
END:VEVENT
BEGIN:VEVENT
DTSTART;TZID=America/Los_Angeles:20260918T080000
DTEND;TZID=America/Los_Angeles:20260918T170000
DTSTAMP:20260422T105222
CREATED:20251222T231741Z
LAST-MODIFIED:20251222T231741Z
UID:10003428-1789718400-1789750800@rhaoregon.org
SUMMARY:RHA Oregon Office Closed
DESCRIPTION:In-Service Work Day 9:00am-5:00pm
URL:https://rhaoregon.org/event/rha-oregon-office-closed/2026-09-18/
LOCATION:RHA Oregon Office\, 10520 NE Weidler St\, Portland\, OR\, 97220\, United States
ORGANIZER;CN="RHAOregon":MAILTO:info@rhaoregon.org
END:VEVENT
BEGIN:VEVENT
DTSTART;TZID=America/Los_Angeles:20260925T080000
DTEND;TZID=America/Los_Angeles:20260925T170000
DTSTAMP:20260422T105222
CREATED:20251222T231741Z
LAST-MODIFIED:20251222T231741Z
UID:10003429-1790323200-1790355600@rhaoregon.org
SUMMARY:RHA Oregon Office Closed
DESCRIPTION:In-Service Work Day 9:00am-5:00pm
URL:https://rhaoregon.org/event/rha-oregon-office-closed/2026-09-25/
LOCATION:RHA Oregon Office\, 10520 NE Weidler St\, Portland\, OR\, 97220\, United States
ORGANIZER;CN="RHAOregon":MAILTO:info@rhaoregon.org
END:VEVENT
BEGIN:VEVENT
DTSTART;TZID=America/Los_Angeles:20261002T080000
DTEND;TZID=America/Los_Angeles:20261002T170000
DTSTAMP:20260422T105222
CREATED:20251222T231741Z
LAST-MODIFIED:20251222T231741Z
UID:10003430-1790928000-1790960400@rhaoregon.org
SUMMARY:RHA Oregon Office Closed
DESCRIPTION:In-Service Work Day 9:00am-5:00pm
URL:https://rhaoregon.org/event/rha-oregon-office-closed/2026-10-02/
LOCATION:RHA Oregon Office\, 10520 NE Weidler St\, Portland\, OR\, 97220\, United States
ORGANIZER;CN="RHAOregon":MAILTO:info@rhaoregon.org
END:VEVENT
BEGIN:VEVENT
DTSTART;TZID=America/Los_Angeles:20261009T080000
DTEND;TZID=America/Los_Angeles:20261009T170000
DTSTAMP:20260422T105222
CREATED:20251222T231741Z
LAST-MODIFIED:20251222T231741Z
UID:10003431-1791532800-1791565200@rhaoregon.org
SUMMARY:RHA Oregon Office Closed
DESCRIPTION:In-Service Work Day 9:00am-5:00pm
URL:https://rhaoregon.org/event/rha-oregon-office-closed/2026-10-09/
LOCATION:RHA Oregon Office\, 10520 NE Weidler St\, Portland\, OR\, 97220\, United States
ORGANIZER;CN="RHAOregon":MAILTO:info@rhaoregon.org
END:VEVENT
BEGIN:VEVENT
DTSTART;TZID=America/Los_Angeles:20261016T080000
DTEND;TZID=America/Los_Angeles:20261016T170000
DTSTAMP:20260422T105222
CREATED:20251222T231741Z
LAST-MODIFIED:20251222T231741Z
UID:10003432-1792137600-1792170000@rhaoregon.org
SUMMARY:RHA Oregon Office Closed
DESCRIPTION:In-Service Work Day 9:00am-5:00pm
URL:https://rhaoregon.org/event/rha-oregon-office-closed/2026-10-16/
LOCATION:RHA Oregon Office\, 10520 NE Weidler St\, Portland\, OR\, 97220\, United States
ORGANIZER;CN="RHAOregon":MAILTO:info@rhaoregon.org
END:VEVENT
BEGIN:VEVENT
DTSTART;TZID=America/Los_Angeles:20261023T080000
DTEND;TZID=America/Los_Angeles:20261023T170000
DTSTAMP:20260422T105222
CREATED:20251222T231741Z
LAST-MODIFIED:20251222T231741Z
UID:10003433-1792742400-1792774800@rhaoregon.org
SUMMARY:RHA Oregon Office Closed
DESCRIPTION:In-Service Work Day 9:00am-5:00pm
URL:https://rhaoregon.org/event/rha-oregon-office-closed/2026-10-23/
LOCATION:RHA Oregon Office\, 10520 NE Weidler St\, Portland\, OR\, 97220\, United States
ORGANIZER;CN="RHAOregon":MAILTO:info@rhaoregon.org
END:VEVENT
BEGIN:VEVENT
DTSTART;TZID=America/Los_Angeles:20261030T080000
DTEND;TZID=America/Los_Angeles:20261030T170000
DTSTAMP:20260422T105222
CREATED:20251222T231741Z
LAST-MODIFIED:20251222T231741Z
UID:10003434-1793347200-1793379600@rhaoregon.org
SUMMARY:RHA Oregon Office Closed
DESCRIPTION:In-Service Work Day 9:00am-5:00pm
URL:https://rhaoregon.org/event/rha-oregon-office-closed/2026-10-30/
LOCATION:RHA Oregon Office\, 10520 NE Weidler St\, Portland\, OR\, 97220\, United States
ORGANIZER;CN="RHAOregon":MAILTO:info@rhaoregon.org
END:VEVENT
BEGIN:VEVENT
DTSTART;TZID=America/Los_Angeles:20261106T080000
DTEND;TZID=America/Los_Angeles:20261106T170000
DTSTAMP:20260422T105222
CREATED:20251222T231741Z
LAST-MODIFIED:20251222T231741Z
UID:10003435-1793952000-1793984400@rhaoregon.org
SUMMARY:RHA Oregon Office Closed
DESCRIPTION:In-Service Work Day 9:00am-5:00pm
URL:https://rhaoregon.org/event/rha-oregon-office-closed/2026-11-06/
LOCATION:RHA Oregon Office\, 10520 NE Weidler St\, Portland\, OR\, 97220\, United States
ORGANIZER;CN="RHAOregon":MAILTO:info@rhaoregon.org
END:VEVENT
BEGIN:VEVENT
DTSTART;TZID=America/Los_Angeles:20261113T080000
DTEND;TZID=America/Los_Angeles:20261113T170000
DTSTAMP:20260422T105222
CREATED:20251222T231741Z
LAST-MODIFIED:20251222T231741Z
UID:10003436-1794556800-1794589200@rhaoregon.org
SUMMARY:RHA Oregon Office Closed
DESCRIPTION:In-Service Work Day 9:00am-5:00pm
URL:https://rhaoregon.org/event/rha-oregon-office-closed/2026-11-13/
LOCATION:RHA Oregon Office\, 10520 NE Weidler St\, Portland\, OR\, 97220\, United States
ORGANIZER;CN="RHAOregon":MAILTO:info@rhaoregon.org
END:VEVENT
END:VCALENDAR